BEGIN:VCALENDAR
METHOD:PUBLISH
VERSION:2.0
PRODID:-//Kutyabarathelyek//Programok//EN
BEGIN:VEVENT
SUMMARY:101. Vizsla Túra
UID:69e9feec00ade
DTSTART:20160424T000000Z

URL;VALUE=URI:http://www.vizslatura.hu/
DESCRIPTION:Fonyód után&nbsp\;Balatonboglár&nbsp\;nyitja meg kutyabarát strandját. Köszönet a város vezetőségeinek!

&nbsp\;

Az eddigi&nbsp\;100(!)&nbsp\;kirándulás sikere és népszerűsége alapján újabb\, közös programra hívunk minden vizslát a gazdájával együtt. A város vezetésének meghívására Balatonboglárra látogathatunk!

Nem titkolt célunk\, hogy a rendezvényen ne csak négylábú kedvenceinket fárasszuk le alaposan\, de mi gazdik is új embereket\, barátokat ismerjünk meg. Szeretnénk továbbá\, ha minél több és eltérő életkorú vizsla találkozhatna egymással\, elősegítve a szocializációjukat. Várunk tehát mindenkit\, akinek ilyen vagy olyan\, saját vagy kölcsönkutyája\, innen vagy onnan levő vizslája van és szívesen töltene el egy vasárnapot többedmagával. Várunk minden olyan vizslát\, aki nem veszekedős\, így kutyaközösségbe vihető. S természetesen szeretettel várunk minden vizslabarátot és kutyakedvelő embert.

&nbsp\;

Balatonboglár bemutatása:

Az átutazó legelőször a Gömbkilátót pillantja meg Várdombon. A domb egész évben nyugalmas és közkedvelt &nbsp\;kirándulóhely. A kilátó esti kivilágítása a távolabbi&nbsp\;veszprémi&nbsp\;partokról is látható. A Várdombon a&nbsp\;nyolcvanas &nbsp\;években&nbsp\;számtalan nyári rendezvény vonzott nagyobb tömegeket\, rendelkezett szabadtéri színpaddal\, &nbsp\;impozáns pergolával. A domb tövében található a Hétház utca\, amely a város legelső villanegyede volt. A város &nbsp\;főutcáján &ndash\; a Dózsa György út mentén &ndash\; a posta&nbsp\;klasszicista&nbsp\;épületét láthatja az átutazó. A régi üzletsorok &nbsp\;helyén az utóbbi években elegáns üzleti negyed épült. Fonyód felé haladva balra még fellelhetők Balatonboglár &nbsp\;régi fényét felidéző polgári villák. Az új bevásárló központtal szemben a többször átépített vasútállomás épülete &nbsp\;tűnik fel. A Balatonbogláron tartósan időző üdülő és kiránduló vendég számára a város sokszínű arcát mutatja.

&nbsp\;

Figyelem!
    A túra során átkelünk a vasúti síneken\, majd érinteni fogjuk a Balaton partját is\, amivel egyidőben horgász verseny lesz.&nbsp\;Nagyon kérjük\, hogy nagy odafigyeléssel legyünk kutyáinkra\, hogy&nbsp\;másokat ne zavarjunk&nbsp\;valamint fordítsunk különösen nagy figyelmet a&nbsp\;biztonságukra\, a terület&nbsp\;tisztaságára és a PÓRÁZ&nbsp\;használatra!

&nbsp\;



&nbsp\;

Tudnivalók:


    A jó idő miatt itt is számítani lehet kullancsokra\, ezért minden kutyát alaposan le kell kezelni.
    Ajánlott viselet:&nbsp\; zárt alsó ruházat.
    A túrán való részvétel regisztrációhoz kötött.&nbsp\;Online előregisztráció&nbsp\;itt!&nbsp\;
    Találkozó\,&nbsp\;regisztráció 9.30-10.30 között&nbsp\;a nagy\, zöld napernyő alatt
    a Vizsla Túra Stáb tagjai UV sárga felsőt vagy mellényt viselnek a túra teljes ideje alatt


&nbsp\;

Találkozási pont 9.30 órától Balatonboglár\, Vörösmarty tér

A túrán való részvétel regisztrációhoz kötött.
    Regisztráció 9.30-tól&nbsp\;
    Utolsó csoport indulás: 10:30 órakor
    A túra nehézségi fok:&nbsp\;* * *&nbsp\;(távra való tekintettel: közepesen nehéz)
    A túra hossza: 10 km (időben kb. 3.5-4 óra)
    Szintemelkedés: 42 m

&nbsp\;

LOCATION:Balatonboglár Vörösmarty tér
END:VEVENT
END:VCALENDAR