BEGIN:VCALENDAR
METHOD:PUBLISH
VERSION:2.0
PRODID:-//Kutyabarathelyek//Programok//EN
BEGIN:VEVENT
SUMMARY: 16. Vizsla Túra Weekend &quot\;Pihenő hétvége&quot\;
UID:69e71760137b6
DTSTART:20160610T000000Z
DTEND:20160612T000000Z
URL;VALUE=URI:http://www.vizslatura.hu/hu/vizsla_turak/vizsla_weekend_idopont/797/16._vizsla_tura_weekend_felhivasa
DESCRIPTION:A tavalyi nagy sikerre való tekintettel\, immár a&nbsp\;második alkalommal 3 napos\, 2 éjszakás Vizsla Weekendre hívunk minden vizslát\,&nbsp\;a gazdájával együtt\, ezúttal a kutyabarát Gácsi Ménesbirtokra\, Simontornyára.

&nbsp\;

A Gácsi Ménesbirtok bemutatása:
    A természetes környezet védelme és folyamatos megőrzése.&nbsp\;Kutyáink a 17 hektáros bekerített területen sétálhatnak\, tréningezhetnek\, futtathatják kedvenceiket\, akár póráz nélkül is\, vagy erdős területen!

&nbsp\;

Elhelyezés 4 db\, 2 szintes\, 2 x 2 ágyas szobákban\, igényesen berendezett\,&nbsp\;szintenként mosdókkal és fürdőszobákkal valamint egy jól felszerelt (tűzhely\, hűtő\, mikro\, TV) konyhás faházakban.&nbsp\;Az épületek teljes összkomforttal felszereltek.
    Étkezési lehetőség: önellátó vagy Simontornyán lehetséges.
    A férőhelyek száma korlátozott és a foglalás sorrendjében kerül lefoglalásra.
    A szállás ára: 5.000 Ft/fő/éj + 400 Ft. IFA./fő/éj
    Igény vagy túljelentkezés esetén 1-2 sátor is lehetséges\, melynek díja 2.000 Ft/fő/éj + 400 Ft. IFA./fő/éj.
    &nbsp\;
    Szállásfoglalás és információ:&nbsp\;Gácsi Petra&nbsp\;+36 30 264 0149 Email:&nbsp\;gacsi.menesbirtok@gmail.com&nbsp\;
    Szombaton a&nbsp\;Simontornyai vár&nbsp\;látogatható meg!
    &nbsp\;

LOCATION:Simontornya Igari út 1
END:VEVENT
END:VCALENDAR