BEGIN:VCALENDAR
METHOD:PUBLISH
VERSION:2.0
PRODID:-//Kutyabarathelyek//Programok//EN
BEGIN:VEVENT
SUMMARY:2. Jótékonysági Sportnap Sárvár és Kemenesalja mentett kutyáiért
UID:69e5dbec3628e
DTSTART:20181015T000000Z


DESCRIPTION:&nbsp\;

2.&nbsp\;Sportnap Sárvár és Kemenesalja mentett kutyáiért


    Ingyenes jótékonysági sportnap&nbsp\;Sárváron. Egész napos programok várják a mozogni\, sportolni vágayókat\, az állatbarátokat.&nbsp\;
    Az adományozók között értékes nyeremények kerülnek kisorsolásra!
    Sárvár és Kemenesalja mentett kutyái a tárgyadományokat is szívesen fogadják!&nbsp\;

&nbsp\;

További részletek a plakáton:
    &nbsp\;

&nbsp\;



&nbsp\;

&nbsp\;

&nbsp\;

LOCATION:Sárvár Dózsa György út 28
END:VEVENT
END:VCALENDAR