BEGIN:VCALENDAR
METHOD:PUBLISH
VERSION:2.0
PRODID:-//Kutyabarathelyek//Programok//EN
BEGIN:VEVENT
SUMMARY:2. Nyílt Baráti Kutyás Találkozó és Tréning
UID:69e81d0a02293
DTSTART:20140927T000000Z


DESCRIPTION:

LOCATION:Nagykanizsa Récsei út
END:VEVENT
END:VCALENDAR