BEGIN:VCALENDAR
METHOD:PUBLISH
VERSION:2.0
PRODID:-//Kutyabarathelyek//Programok//EN
BEGIN:VEVENT
SUMMARY:2xCAC Kutyashow Herend - 2019
UID:69e7ff8b06f39
DTSTART:20190622T000000Z
DTEND:20190622T000000Z

DESCRIPTION:&nbsp\;




    
    
    Szeretettel várunk minden kedves érdeklődőt Herenden június 22-én\, az Ebtenyésztők Veszprém megyei Egyesületének 2xCAC Kutyashow-ján.
    
    &nbsp\;

&nbsp\;

LOCATION:Herend Vasút utca 2
END:VEVENT
END:VCALENDAR