BEGIN:VCALENDAR
METHOD:PUBLISH
VERSION:2.0
PRODID:-//Kutyabarathelyek//Programok//EN
BEGIN:VEVENT
SUMMARY:2XCAC Vadászkutya kiállítás Kaposvár
UID:69e71a22cbebc
DTSTART:20220409T000000Z
DTEND:20220409T000000Z
URL;VALUE=URI:http://www.kaposvarikutya.hu/
DESCRIPTION:&nbsp\;



&nbsp\;

&nbsp\;

2XCAC Vadászkutya kiállítás
    2022.04.09. Kaposvár


    Délelőtt St Hubertus Hunting CAC kiállítás\, délután Kaposvári Vadászkutya CAC kiállítás.
    &nbsp\;

További információ az esemény&nbsp\;Facebook oldalán.

&nbsp\;

&nbsp\;

LOCATION:Kaposvár 
END:VEVENT
END:VCALENDAR