BEGIN:VCALENDAR
METHOD:PUBLISH
VERSION:2.0
PRODID:-//Kutyabarathelyek//Programok//EN
BEGIN:VEVENT
SUMMARY:4. Veszprémvölgyi Agility Kupa
UID:69e81cd618fac
DTSTART:20160515T000000Z

URL;VALUE=URI:http://vargagility.wix.com/vak2016
DESCRIPTION:Kedves Agilitysek!
    Sok szeretettel invitálunk meg Benneteket Veszprémbe\, a már-már hagyománynak számító agility-s napra\, melyre az ország minden pontjáról várjuk az agilityzni vágyókat\, hogy egy szuper napot tölthessünk el együtt!
    Idén is rengeteg nyeremény vár rátok\, gyertek minél többen\, a családias légkör\, a jó minőségű akadályok\, és a gyönyörű helyszín garantált!
    Futamok: zsenge jumping\, kezdő agility\, zsenge/kezdő közös jumping\, A1 agility\, A2 agility\, A3 agility\, Open jumping
    Bírók: Sajben Szilvi és Vincze-Papp Rita
    
    Jelentkezési űrlap segítőknek:&nbsp\;

https://docs.google.com/forms/d/120P4mvI92ANE7w_nBBPHDmPzZJcEWWSNjN7ZTGYSHV8/edit
    Verseny honlapja:&nbsp\;http://vargagility.wix.com/vak2016
    Regisztráció:&nbsp\;https://docs.google.com/forms/d/11NGM7sExsw8gMykfEMBMExFDAU1lpyU1DnzRuIgjoiM/viewform?c=0&amp\;w=1&amp\;usp=send_form
    Beérkezett nevezések:&nbsp\;

https://docs.google.com/spreadsheets/d/1yL5NhLK0w5FVZrcRmLLGKnTJC3POwwQ9bObntGegYnE/edit?usp=sharing

LOCATION:Veszprém 
END:VEVENT
END:VCALENDAR