BEGIN:VCALENDAR
METHOD:PUBLISH
VERSION:2.0
PRODID:-//Kutyabarathelyek//Programok//EN
BEGIN:VEVENT
SUMMARY:92. Vizsla Túra és IV. Vizsla Túra Fesztivál
UID:69e81d33b8375
DTSTART:20150913T000000Z

URL;VALUE=URI:http://www.vizslatura.hu/hu/aktualis/765/92._vizsla_tura_es_iv._vizsla_tura_fesztival_felhivasa
DESCRIPTION:Regisztráció 


    9.00 és 10.30 között
    A nagy\, zöld SÁTORNÁL
    A Vizsla Túra Stáb tagjai UV sárga mellényt vagy felsőruházatot viselnek a túra teljes ideje alatt\, szükség esetén forduljatok hozzájuk bizalommal!


Túra hossza:


    A: 11 km.&nbsp\;
    B: &nbsp\;6 km.&nbsp\;


Szintemelkedés: 5 m. Nehézségi szint: -

Találkozási pont: Újhartyán\, Városközpont (Homok u. 1.)

A programról:

Túra csoportok indulása az alábbiak szerint:


    &nbsp\;9:30\, 10:00\, 10:30
    12:30&nbsp\;órától ebéd
    13:00 Doktor Mancsok Alapítvány&nbsp\;rövid bemutatkozása és gyakorlati bemutatója (adománygyűjtés)
    13:30&nbsp\;Ügyességi vetélkedő nem csak kétlábúaknak&nbsp\;


Egésznapos programok:


    Agility pálya
    Kirakodó vásár: Pólók\, nyakörvek\, ajándéktárgyak
    Korábbi évek tapasztalatai és sikere alapján lángos és palacsinta
    Nemes Gabriella: Gyerek arc\, henna és csillám festés




&nbsp\;

Részvételi hozzájárulás: 1.000 Ft/kutya&nbsp\;(...tehát nem 1.000 Ft/ember!)\, melyet a regisztráció során fogjuk gyűjteni.

&nbsp\;

Amivel minden kutyát és gazdit várunk:


    Vizsla Túra biléta a kutyáknak
    Virsli a négylábúaknak\, hűtött ásványvíz a gazdiknak
    kutyaürülék-felszedő zacskók&nbsp\;az&nbsp\;EB OVO&nbsp\;jóvoltából\, melyek 6-12 hónap alatt lebomlanak.
    Korlátlan és ingyenes ívóvíz a kutyáknak és a gazdiknak egyaránt a Fesztivál ideje alatt.


Ajándékcsomagok:


    a 3 legfiatalabb vizslának (születési dátum alapján)
    a 3 legidősebb vizslának (születési dátum alapján)
    a 3 legmesszebbről érkezett vizslának (a regisztráció során megadott lakcím/irányítószám alapján Újhartyánhoz képest)&nbsp\;Az ajándékokat érkezéskor a regisztráció során a sátor alatt adjuk át\, továbbá a&nbsp\;KISÁLLAT EGÉSZSÉGÜGYI KÖNYV&nbsp\;bemutatása mellett vehetők át!


Tudnivalók:


    fokozott odafigyelést igényel saját magunk és kutyánk kullancs elleni védelme
    ajánlott viselet: zárt alsó ruházat (a kullancsok miatt)\, bokát megfelelően tartó túracipő
    a túra hosszára való tekintettel érdemes elegendő folyadékkal készülni
    a túra alatt több alkalommal megállunk majd pihenni
    előreláthatólag szép időnk lesz\, azonban az esőkabátot ne felejsétek otthon.
    a Vizsla Túrára való jelentkezéskor kérjük előre jelezzék a gazdik\, ha egy kutya esetleg valamilyen (akár enyhébb) betegségben szenved\, esetleg jobban kell rá figyelni (pl. epilepsziás\, szívbeteg\, volt már allergiás reakciója rovarcsípésre\, stb.)


Fontos szabályok:


    A kutyaürüléket minden gazdinak példamutatóan össze kell szedni\, melyhez tasakot a regisztrációkor biztosítunk.
    Csakis minden oltással rendelkező&nbsp\;és&nbsp\;nem tüzelő&nbsp\;állatok érkezzenek a túrára.
    Minden gazdi gondoskodjon egyedi megkülönböztető jelről (pl. jellegzetes színű sál\, kendő\, nyakörv\, hám) a kutyája számára.
    Pórázt mindenki hozzon magával kutyája számára.
    Túra induláskor mindenki köteles ellenőrizni\,&nbsp\;hogy kutyáján van-e biléta és az ezen szereplő telefonszám a gazdinál csörög-e a túra ideje alatt!&nbsp\;(Biléta nélkül érkezőknek a regisztrációkor biztosítunk nyakörvre rögzíthető Vizsla Túrás&nbsp\;bilétát.)
    Kizárólag olyan gazdik jelentkezzenek a túrára\, akik teljes körű felelősséget vállalnak kutyájuk viselkedéséért!
    A túrán mindenki a saját felelősségére vesz részt\; kártérítés a rendezőktől semmilyen jogcímen nem igényelhető!
    A túra közben bekövetkező esetleges balesetekért a szervezők nem tudnak felelősséget vállalni!


Jelentkezés és előzetes regisztráció:

Továbbra is igyekszünk mindent megtenni azért\, hogy a Vizsla Túrákat a lehető legszervezettebben vezényeljünk le. Ehhez kérjük a Ti együttműködéseteket: jelezzétek előzetesen részvételi szándékotokat a Vizsla Túrára\, küldjétek el regisztrációtokat. Így tud stábunk megfelelően előkészülni\, elegendő létszámú túravezetőt biztosítani a turnusokhoz\, lecsökkenteni számotokra a regisztrációval töltött időt\, tehát így tudjuk gördülékenyebbé tenni mindenki számára a Vizsla Túrás vasárnapokat!&nbsp\;

A jelentkezésről bővebb információt a weboldalon találtok!

LOCATION:Újhartyán Homok utca 1
END:VEVENT
END:VCALENDAR