BEGIN:VCALENDAR
METHOD:PUBLISH
VERSION:2.0
PRODID:-//Kutyabarathelyek//Programok//EN
BEGIN:VEVENT
SUMMARY:Ace szombati kutyasuli
UID:69ed709a25250
DTSTART:20240928T000000Z


DESCRIPTION:Csak alkalmanként érnél rá kutyaiskolába menni?

&nbsp\;

Az Ace kutyasulinál lehetősége van rá akkor órára menned\, amikor időd engedi.&nbsp\;

Regisztráció után bármikor csatlakozhatsz az egyik szombati oktatáshoz.

&nbsp\;

Az oktatás 5000 Ft egy alkalommal\, de bérletváltásra is van lehetőséged.

&nbsp\;

Rugalmasan\, változó helyszíneken\, utcán történik a tréning.

&nbsp\;

A részletekért keresd fel a kutyasulit!

LOCATION:Tököl Csépi út 269
END:VEVENT
END:VCALENDAR