BEGIN:VCALENDAR
METHOD:PUBLISH
VERSION:2.0
PRODID:-//Kutyabarathelyek//Programok//EN
BEGIN:VEVENT
SUMMARY:Akela Flyball Cup 2023
UID:69e62c5e53863
DTSTART:20230422T000000Z
DTEND:20230423T000000Z

DESCRIPTION:&nbsp\;

Akela Flyball Cup 2023


    Nevezési határidő: 2023.04.09.
    Fizetési és módosítási határidő: 2023.04.16.


    BO: divízió legjobb ideje -0\,5s
    CT: BO-0\,3s
    BO-ból és CT-ból a verseny során 2 megengedett

&nbsp\;


    További információ az esemény Facebook oldalán!
    
    &nbsp\;



&nbsp\;

&nbsp\;

LOCATION:Sződliget 
END:VEVENT
END:VCALENDAR