BEGIN:VCALENDAR
METHOD:PUBLISH
VERSION:2.0
PRODID:-//Kutyabarathelyek//Programok//EN
BEGIN:VEVENT
SUMMARY:Alapfokú Kurzus a Pawsitively trénerével
UID:69e81d0a65096
DTSTART:20190618T000000Z
DTEND:20190618T000000Z
URL;VALUE=URI:http://www.pawsitively.hu
DESCRIPTION:&nbsp\;



&nbsp\;

&nbsp\;

Alapfokú kurzus felnőtt kutyáknak a Láthatatlan Póráz Módszerrel.
    Kezdés: 2019.06.18-án (kedden) 19:00-kor.


    100%-ban pozitív megerősítéssel\,
    kényszer\,büntetés alkalmazása nélkül\,
    lépésről lépésre haladva\, a kutyák tanulási tempójában\,
    kis létszámú csoportban ( 3-5 kutya-gazdi párossal )
    valódi élethelyzetekben tanulva\,
    vidám\, jó hangulatú tréningeken\, ahol bátran felteheted
    kérdéseidet\,
    kontroll tanítása\, hogy kutyánk valóban megértse mit jelent a &quot\;Nem!&quot\; szó
    segédanyagok a gyakorlásokhoz\,
    ajándékcsomagl ( síp\, nyakpánt\, klikker ) a tanuláshoz.



    8 hét\, 8 tréning\, utolsó alkalommal egy szituációs nappal zárjuk a kurzust.
    
    Jelentkezni tudsz a www.pawsitively.hu oldalon található űrlap segítségével 2019. Június 15-ig!
    Várlak Titeket szeretettel!
    
    Piros Petra\, tréner
    www.pawsitively.hu
    Beszélj közös nyelvet kutyáddal!
    
    &nbsp\;

LOCATION:Szombathely 
END:VEVENT
END:VCALENDAR