BEGIN:VCALENDAR
METHOD:PUBLISH
VERSION:2.0
PRODID:-//Kutyabarathelyek//Programok//EN
BEGIN:VEVENT
SUMMARY:Állami Ünnepség a Budai várban
UID:69e97ec4962cb
DTSTART:20150315T000000Z


DESCRIPTION:

&nbsp\;

Délelőtt 10 órától várunk minden kedves érdeklődőt a standunknál\, mely a Vár makettje mellett\, a Szentháromság téren\, a Mátyás templom közelében lesz!
    Lesznek szokás szerint vásárolható termékeink és szívesen látunk lelkes önkénteseket is\, akik segítenek népszerűsíteni idén 20 éves állatotthonunkat és az 1% adófelajánlás lehetőségét!
    
    Aki jönne önkénteskedni (szórólapozás\; kutyasimogatóban kutyákra vigyázás\, stb...) írjon itt kommentet\, vagy üzenetet Peter Wooded -nek.
    Egész nap folyamatosan szükség lesz 6-7 fő segítőre!

&nbsp\;

LOCATION:Budapest Budapest\, Budai vár
END:VEVENT
END:VCALENDAR