BEGIN:VCALENDAR
METHOD:PUBLISH
VERSION:2.0
PRODID:-//Kutyabarathelyek//Programok//EN
BEGIN:VEVENT
SUMMARY:Állati Jó Nap!
UID:69eb34732e645
DTSTART:20160423T000000Z


DESCRIPTION:Délutáni kikapcsolódás gazdiknak és kedvenceiknek!
    
    15.00-15.15 Megnyitó\, rajzpályázat díjátadó
    15.15-15.30 &bdquo\;FLASH MOB&rdquo\; kutyás vonulás\, majd közös fotó a BFMK előtt
    15.30-17.00 Kerekasztal beszélgetés állatorvossal és állatvédőkkel (témák: örökbefogadás\, ivartalanítás\, nem várt szaporulat megelőzése\, felelős állattartás)
    15.30-18.00 Kézműves foglalkozás: készítsünk közös emléket kedvencünk mancsnyomával
    17.30- 18.00 Kutya divatbemutató
    18.00-19.00 Segítség\, ember! mesemusical a Bessenyei Színkör előadásában.

LOCATION:Hódmezővásárhely Doktor Rapcsák András út 7
END:VEVENT
END:VCALENDAR