BEGIN:VCALENDAR
METHOD:PUBLISH
VERSION:2.0
PRODID:-//Kutyabarathelyek//Programok//EN
BEGIN:VEVENT
SUMMARY:Állati Valentin a Vasmacska KávéZoo-ban a Retriever Rescue-val
UID:69e84c747af02
DTSTART:20240217T000000Z
DTEND:20240217T000000Z

DESCRIPTION:Gyere el egy fergeteges\, sütizős\, kutyázós Valentin partira a Vasmacska KávéZoo-ba!
    Hozd magaddal kedvesed is\, itt biztosan találsz neki valami igazán kutyás Valentin ajándékot!
    Szeretnél valamelyik védencünk Valentinje lenni? Elhozhatod a nekik szánt ajándékod: tápot\, jutifalatot\, vagy felszerelést\, de ha adományoznál a gazdikeresőink részére\, akkor azt is megteheted.&nbsp\;
    Várunk szeretettel\, önkénteseink adománytárgyakkal várnak\, kutyáink pedig alig várják a temérdek simit!

&nbsp\;

&nbsp\;



&nbsp\;

&nbsp\;

LOCATION:Budapest Laktanya utca 3.
END:VEVENT
END:VCALENDAR