BEGIN:VCALENDAR
METHOD:PUBLISH
VERSION:2.0
PRODID:-//Kutyabarathelyek//Programok//EN
BEGIN:VEVENT
SUMMARY:Állatvédelmi Piknik - ingyenes Állatvédelmi Témahét nyitóesemény 2024
UID:69ed02a23fa81
DTSTART:20240928T000000Z
DTEND:20240928T000000Z

DESCRIPTION:
    2024. szeptember 28. 10:00-21:00


    Akik kitelepülőként biztosan ott lesznek:


    Áldozatsegítő Központ
    Állatkerti Pont //
    Budakeszi Vadaspark\, Fővárosi Állat- és Növénykert\, Jászberényi Állat-és Növénykert\, Kecskeméti Vadaskert\, Szegedi Vadaspark\, Tisza-tavi Ökocentrum\, Veresegyházi Medveotthon\, Veszprémi Állatkert
    Állatorvostudományi Egyetem
    Állatvédelmi Témahét // Állatbarát pedagógusok
    BM Katasztrófavédelem
    Fradisták Az Állatokért Egyesület // Magyar Állatvédelem Állatvédő Egyesület
    Gazdijogsi
    Herman Ottó Intézet Nonprofit Kft.
    Jane Goodall Intézet
    Közös ügyünk az állatvédelem Alapítvány
    Magyar Ebtenyésztők Országos Egyesületeinek Szövetsége
    Magyar Kormánytisztviselői Kar
    Magyar Természettudományi Múzeum
    Miskolci Egyetem
    Művészetek Háza Veszprém Művelődési Ház és Kiállítóhely
    Nagycsaládosok Országos Egyesülete
    Nemzeti Adó- és Vámhivatal
    NÖF Nemzeti Örökségvédelmi Fejlesztési Nonprofit Kft. // Eszterháza Kulturális\, Kutató- és Fesztiválközpont Közhasznú Nonprofit Kft.
    Országos Polgárőr Szövetség
    Pannon Egyetem
    Pannon Várszínház
    Prevenciós Pont // Rendőrség
    PUMI Veszprémi Állatvédelmi Kompetencia Központ
    REX Állatotthon
    Sukorói Vadmadárkórház
    Számfestő
    Széchenyi Zsigmond Vadászati Múzeum
    Szépalma Állatvédelmi Alapítvány
    Ürömi Állatotthon


&nbsp\;

További információ az esemény Facebook-oldalán!

&nbsp\;

&nbsp\;


    &nbsp\;

LOCATION:Budapest Erzsébet tér
END:VEVENT
END:VCALENDAR