BEGIN:VCALENDAR
METHOD:PUBLISH
VERSION:2.0
PRODID:-//Kutyabarathelyek//Programok//EN
BEGIN:VEVENT
SUMMARY:Angol és Ausztrál Pásztorkutya Speciál Kiállítás 2015
UID:69e88c3a0e22c
DTSTART:20150919T000000Z

URL;VALUE=URI:http://www.club-info.hu/
DESCRIPTION:Angol és Ausztrál pásztorkutya Speciál kiállítás 2015

&nbsp\;

Collie Rough\, Collie Smooth\, Bearded Collie\, Border Collie\, Shetland Sheepdog\, Welsh Corgi Pembroke\, Welsh Corgi Cardigan\, Australian Sherpherd\, Australian Cattle Dog\, Australian Kelpie

&nbsp\;

Nevezési információk:

Nevezési határidő:2015. augusztus 31.

Nevezési cím: AAPKK\, 2083 Solymár\, Pacsírta u. 1. Hungary

E-mail: apkk@club-info.hu

Online nevezés:www.hod-dog.hu

A nevezési lap innen tölthető le.

&nbsp\;

Nevezési díjak MEOE tagoknak (nem tagoknak a duplája):

Fiatal\, nyílt\, növendék\, Champion osztályos kutya: 4500 Ft

Második kutya: 4000 Ft

Baby\, Kölyök\, Veterán osztály: 3000 Ft

Kutyapár\, Tenyészcsop.\, Utódcsop.: 2000 Ft

Junior handler: 1500 Ft

&nbsp\;

A klubkiállítás bírói:

Mrs. Bente Loseth (TellMe) - N : Collie\, Shetland sheepdog

Marko Ljutic (Mangry&#39\;s) - HR : Bearded Collie\, Border Collie\, Welsh Corgi Pembroke\, Welsh Corgi Cardigan\, Ausztrál juhászkutya\, Ausztrál Cattle Dog\, Australian Kelpie

Bírálatok kezdődnek: 10.00

&nbsp\;

Hobby osztály - Kutyashow

A Klubkiállítás keretein belül a hobby osztályban lehetőséget biztosítunk a hozzánk tartozó kutyafajták közül azoknak a kedvenceknek is\, akiket gazdáik nem tudnak kutyakiállításon bemutatni\, pld. színhiba\, nem megengedett szőrtípus\, FCI származási lap hiánya\, ivartalanított stb. miatt. Továbbá nevezhetnek olyan gazdák is\, akik jobban szeretnék első alkalommal inkább egy kutyashow-n bemutatni a kutyájukat.

A Hobby osztály kutyái fajtánként és nemenként külön osztályban indulnak. Nem vesznek részt a Klubkiállítás hivatalos címeket adó összevetéseiben. A kiállítás végén a hobby osztályos kutyák fajtánkénti győzteseinek külön Best in Show-t rendezünk a &quot\;Legszebb Hobby kutya I.\, II.\, III.\, &quot\; címért.&nbsp\;

&nbsp\;

Nevezési információk:

Nevezési díj: 3000 Ft (tagoknak és nem tagoknak egységesen)

Nevezési határidő: 2015. augusztus 31.

Nevezési cím: AAPKK\, 2083 Solymár\, Pacsírta u. 1. Hungary

E-mail: apkk@club-info.hu

A nevezési lap innen tölthető le.

&nbsp\;

További információk és szabályzat a szervezők honlapján:&nbsp\;http://www.club-info.hu/

&nbsp\;





LOCATION:Budapest Lechner Ödön sétány
END:VEVENT
END:VCALENDAR