BEGIN:VCALENDAR
METHOD:PUBLISH
VERSION:2.0
PRODID:-//Kutyabarathelyek//Programok//EN
BEGIN:VEVENT
SUMMARY:ÁVE GYEREKNAP &quot\;Az állatok szőrös gyerekek&quot\;
UID:69e7975203c1b
DTSTART:20160529T000000Z


DESCRIPTION:&nbsp\;

Gyereknapi program
    &quot\;Az állatok szőrös gyerekek&quot\; címmel
    az Állatvédők Vasi Egyesülete és a Szombathelyi Repülőklub szervezésében.&nbsp\;
    
    Gyertel el\, látogassatok meg minket!
    Nagyszerű programokkal várunk minden érdeklődőt\, legyen kicsi vagy nagy\, kétlábú vagy négylábú! :)&nbsp\;
    &nbsp\;




    
    Egésznapos programjaink:
    - élményrepülés
    - örökbefogadás
    - kisállat simogató
    - arcfestés
    - csillámtetkó
    - lufihajtogatás
    - kézműves asztal
    - zsákbamacska
    - tombola vásárlás
    
    14:00 Kutyaszépségverseny - keverék és fajta jellegű kategóriában
    15:00 Kutyás trükkbemutató
    15:30 Gazda-kutya futóverseny - A felnőttek kis- és nagytestű kategóriába nevezhetnek kedvenceikkel\, a gyerekeknek külön kategóriát indítunk.&nbsp\;
    16:30 Agility bemutató
    17:30 Tombola sorsolás\, eredményhirdetés
    
    A versenyszámokon való nevezés díja 400\,- adomány\, mellyel az Állatvédők Vasi Egyesületének mentett állatait támogatod!&nbsp\;
    
    Hozzatok zacskót az ürülék felszedéséhez\, hiszen ügyelünk a tisztaságra! Hozzátok magatokkal a kutyák oltási könyvét is!

LOCATION:Szombathely 
END:VEVENT
END:VCALENDAR