BEGIN:VCALENDAR
METHOD:PUBLISH
VERSION:2.0
PRODID:-//Kutyabarathelyek//Programok//EN
BEGIN:VEVENT
SUMMARY:Az Állatrendőrség Alapítvány I. Családi Napja
UID:69e75546cc67f
DTSTART:20160605T000000Z


DESCRIPTION:&nbsp\;

Szeretettel várunk mindenkit\, színes gyerek programokkal\, előadásokkal\, kutya-cica örökbefogadással\, ingyenes állatorvosi és kutyakozmetikai tanácsadással. Kutyaiskola bemutatóval\, finom csokoládéval\, tombolával\, arcfestéssel\, grafológiai tanácsadással.


    Dr. Hacco Oren állatorvos\, a klinika vezetője válaszol kérdéseidre: &bdquo\;minden\, amit csak tudni szeretnél házikedvenceidről&rdquo\;.
    Beszélgess Dr. Hoffer Nóra állatorvossal a felelős állattartásról\, és arról\, miért szereti a kedvenceket saját otthonukban gyógyítani.
    A &bdquo\;Játékos készségfejlesztés lóháton&rdquo\; képviseletében Alfika várja kis barátait közös fotózásra\, de megfésülheted és befonhatod a sörényét is!




&nbsp\;

Előadások:


    11. 00 Ditrói Zoltán akkreditált családállító előadása&nbsp\;
    Családállítás\, és ami mögötte van - avagy amit mindig szerettél volna tudni\, de nem tudtad kitől megkérdezni.
    13. 00 Orosi Tünde kineziológus
    Kötetlen beszélgetés a kineziológiáról. Stresszoldó\, tanulást könnyítő gyakorlatok tanítása felnőtteknek és gyerekeknek.


Programok:

Programjaink ingyenesek\, a befolyt adományokkal alapítványunk munkáját\, az állatok ellátását támogatjátok!


    Tíz órától várjuk vendégeinket zsíros kenyérrel\, üdítővel.
    Dorisz és Zsuzsi\, a Zseboroszlán és az Ebszalon kutyakozmetikusai várják vendégeiket &bdquo\;elsősegéllyel&rdquo\;\, és szaktanácsadással.
    Az írás- és rajzelemzés segít párkapcsolati\, munkahelyi\, és más problémák megoldásában\, Bollók Márta grafológus várja az érdeklődőket.
    Réh Ildikó\, MakeUp Artist arcfestéssel kedveskedik a gyerekeknek.
    Az EndorFine Csokoládé üzlet különleges finomságokkal készül.
    A &bdquo\;Zárjuk be a Kóborgyárat!&rdquo\; csoport örökbefogadható cicákkal vesz részt a rendezvényen.&nbsp\;
    A Dog Island kutyaiskola őrző-védő és engedelmes bemutatót is fog tartani.
    A nap folyamán Győrffyné Bakos Rózsa kézzel kötött kutyaruháit megvásárolhatod.&nbsp\;
    Alapítványunk gazdikeresői várják barátaikat\, Lüssy\, Atom és Paripa.
    Délután folyamán tombola sorsolás\, értékes nyereményekért!
    Az esemény\, és az örökbefogadások hivatalos megörökítője Eckrich Zsolt.
        &nbsp\;


LOCATION:Budapest csárda utca 10
END:VEVENT
END:VCALENDAR