BEGIN:VCALENDAR
METHOD:PUBLISH
VERSION:2.0
PRODID:-//Kutyabarathelyek//Programok//EN
BEGIN:VEVENT
SUMMARY:Békéscsabai 3 x CACIB
UID:69e9e011d1081
DTSTART:20220401T000000Z
DTEND:20220403T000000Z

DESCRIPTION:&nbsp\;



&nbsp\;

Program mind a három napon:


    07:30 Kutyák beléptetése a kiállítás területére
    10:00 A Kiállítás hivatalos megnyitása
    10:15 A bírálatok kezdése
    11:00 Hobbikutya Szépségverseny a Mentőkért (Csak vasárnap!)
    13:00 Kutyás bemutatók
    14:30 A Best in Show gála kezdése\, a legszebb kutyák és a legügyesebb felvezetők díjazása.
    SZUPER BEST IN SHOW


&nbsp\;

&nbsp\;

LOCATION:Békéscsaba 
END:VEVENT
END:VCALENDAR