BEGIN:VCALENDAR
METHOD:PUBLISH
VERSION:2.0
PRODID:-//Kutyabarathelyek//Programok//EN
BEGIN:VEVENT
SUMMARY:Budapest Grand Prix CACIB Show - 2018
UID:69e7a8a983edd
DTSTART:20180622T000000Z
DTEND:20180624T000000Z
URL;VALUE=URI:https://www.budapestcacib.hu/
DESCRIPTION:&nbsp\;

Meghosszabbított nevezési határidő:&nbsp\;Június 11. (hétfő) éjfélig


    A&nbsp\;kiállítás bírólistája elérhető: ide kattintva

&nbsp\;

2018. 06. 22. -&nbsp\;Klubkiállítások

2018. 06. 23. -&nbsp\;&nbsp\;Grand Prix Show CACIB I.

2018. 06. 24. -&nbsp\;Grand Prix Show CACIB II.

&nbsp\;



&nbsp\;

Látogatói programok

2018. június 23. (SZOMBAT)


    10:00 - A kiállítás ünnepélyes megnyitója\, bírálatok kezdete
    10:00-14:30 - A bírói körökben egyedi kutya (minden fajta) bírálatok
    10:00-14:00 - Dog Dancing verseny
    14:30 - Best In Show\, a győztes kutyák versenye\, a nap legszebb kutyája címért


&nbsp\;

2018. június 24. (VASÁRNAP)


    10:00 -&nbsp\;Bírálatok kezdete
    10:00-14:30 - A bírói körökben egyedi kutya (minden fajta) bírálatok
    11:00-13:00 - Hobbikutya szépségverseny&nbsp\;Petrus Krisztinával&nbsp\;(&quot\;EbugattaKriszti&quot\;)
    13:00-14:30 - A Millennium-telepi Kutyaiskola és Sportegyesület fegyelmező\, őrző-védő és ügyességi bemutatója
    14:30 - Best In Show\, a győztes kutyák versenye a nap legszebb kutyája címért


&nbsp\;

&nbsp\;

&nbsp\;

LOCATION:Budapest Albertirsai út 10
END:VEVENT
END:VCALENDAR