BEGIN:VCALENDAR
METHOD:PUBLISH
VERSION:2.0
PRODID:-//Kutyabarathelyek//Programok//EN
BEGIN:VEVENT
SUMMARY:CAC és OTK Speciál Klubkiállítás
UID:69e8b91da2b97
DTSTART:20150920T000000Z

URL;VALUE=URI:http://www.terrierklub.hu/
DESCRIPTION:CAC és Speciál KLUB kiállítás
    Az MKSZ ORSZÁGOS TERRIER KLUB 2015. szeptember 20-án (vasárnap ) Budapest\, 1103 Budapest\, Hangár u. 2\, Happy Dog Kutyaiskola területén

CAC kutyakiállítást rendez minden FCI által elismert és FCI által el nem ismert kutyafajta részére.

&nbsp\;

A kiállításon a CAC címen kívül a Special OTK KLUBGYŐZTES cím az alábbi fajtákra kerül kiadásra:
    &bull\; FCI I. fajtacsoportból Bearded Collie\, Border Collie\,Collie (hosszú és rövidszőrű) \, Sheltie. francia pásztorkutyák\, belga juhászkutyák \, Svájci fehér juhász
    &bull\; FCI II. fajtacsoportból Schnauzer és Pincher\, Dobermann \, Berni Pásztorkutya\, francia pásztorkutyák \, Orosz Fekete Terrier
    &bull\; FCI III. fajtacsoportból az ÖSSZES TERRIER
    &bull\; FCI V.fajtacsoportból az összes fajta
    &bull\; FCI X. (kivéve magyar agár)
    &nbsp\;

El nem ismert fajták :
    &bull\; Harlequin (foltos) és Party (rajzos) Uszkár ( FCI által el nem ismert többszínű)
    &bull\; Biewer \,Biró \,Goldust \, Merle \, Chokolate stb Yorkshíre Terrier (FCI által el nem ismert többszínű)
    &bull\; Amerikai Bulldog (Bully és Standard változat)
    &bull\; Amerikai Bully ( minden változat )
    &bull\; Amerikai PITTBULL terrier
    &bull\; Kelet Európai Juhászkutya
    &bull\; Spaniel Coboly és Csokoládé Coboly
    &bull\; Boerboel
    &bull\; Bolonka Zwetna Bolonka Franzuska
    &bull\; El nem ismert színű spitzek:
    &bull\; Egyéb FCI által el nem ismert fajták\, illetve el nem ismert színváltozatok pl. fehér Boxer.


    HOBBY kategóriába nevezhetők azok az FCI által elismert és FCI által el nem ismert fajták \, melyek a fajta jellegnek megfelelnek \, de törzskönyv nélküliek \, vagy ivartalanított\, vagy más okból a normál kategóriákban nem indíthatók.

&nbsp\;

A kiállításon FAJTANÉLKÜLI egyedek is indulhatnak külön kategóriában.

A nevezési díjat az alábbi bankszámlára kérjük befizetni!
    OTP Bank 11712004-20234131\, számlatulajdonos : Országos Terrier Klub
    Our IBAN code is: HU46 1171 2004 2023 4131 0000 0000
    Our Swift code is: OTPVHUHB

&nbsp\;

Első nevezési határidő: 2015 augusztus 21. Második nevezési határidő : 2015 szeptember 10.

&nbsp\;

A nevezésnek a 2. nevezési határidő napjáig be kell érkeznie . A nevezési határidő után érkezett nevezések pótlapra kerülnek.

Nevezési díj: (MKSZ \, illetve MEOESZ szervezeti tagoknak )
    I. határidő II. határidő
    Első kutya 4 000\,- Ft. 5 000\,- Ft.
    Többi kutya 3 500\,- Ft. 4 500\,- Ft.
    Veterán\, bébi\, kölyök 2 500\,- Ft. 5 000\,- Ft.

Nem tagoknak a fenti összeg kétszerese.

Fajta nélküli és hobbi kategóriájú kutyák az I. határidőben 25%-os díjkedvezménnyel nevezhetők .
    Magyar fajták az I. határidőben 50%-os díjkedvezménnyel nevezhetők (több kutya nevezése esetén is az alapdíj 50%-a fizetendő).

Több kutya nevezésekor a kedvezménnyel nevezhető kutya nem vehető figyelembe első kutyaként.

A KEDVEZMÉNYEK MINDEN ESETBEN AZ ALAPDÍJBÓL SZÁMOLANDÓK ÉS KIZÁRÓLAG AZ I. HATÁRIDŐBEN BEÉRKEZŐ NEVEZÉSEKRE VONATKOZNAK. II. HATÁRIDŐBEN KIZÁRÓLAG AZ ÁLTALÁNOS DÍJTÉTEL MEGFIZETÉSÉVEL LEHET NEVEZNI.


    FIGYELEM: A nevezési díjat akkor is be kell fizetni\, ha a kutyát a kiállító nem vezeti fel. Nevezést visszavonni a nevezési határidő lejártáig lehet. Nevezési díjat nem térítünk vissza. A nevezéssel a tulajdonos hozzájárult az abban foglalt adatai közzétételéhez.


    Nevezési cím: Országos Terrier Klub 1245 Budapest Pf.: 1151
    E-mail nevezés: bakonyig@t-online.hu
    ONLINE NEVEZÉSI FELÜLETÜNK:&nbsp\;http://www.terrierklub.hu/
    Az online nevezési rendszer 2015 augusztus 03-tól áll a nevezők rendelkezésére\, addig lehet a nevezést az e-mail\, illetve a postai címre küldeni.

HONLAPUNK:&nbsp\;http://www.otkweb1.extra.hu/
    FACEBOOK oldal:&nbsp\;https://www.facebook.com/OrszagosTerrierKlub?fref=ts
    Érdeklődés és nevezéshez segítségkérés : bakonyig@t-online.hu 06.309.497280 \, 06.30.6966795
    Nevezési visszaigazolást mindenkinek küldünk\, aki e-mail címét megadja annak e-mail útján. Ez tartalmazni fogja az érkezés időpntját és a bírálatok kezdetének időpontját is.

Papír alapú nevezéshez bármilyen nevezési lap megfelel\, de kérjük feltüntetni a telefon és az e-mail elérhetőségeket. Minden nevezés mellé kérjük mellékelni: a származási lap másolatát\, a munka és champion bizonyítvány másolatát\, tagsági igazolvány másolatát \, befizetési igazolás másolatát.


    Kérjük a kiállítókat\, hogy a befizetés minden alkalommal a tulajdonos neve alatt történjen. Belépéskor a kutyák oltási bizonyítványát\, valamint a befizetési bizonylat eredeti példányát fel kell mutatni. A kutyák által okozott\, minden néven nevezendő kárért a tulajdonos tartozik felelősséggel.


    A nevezési lap beküldésével a kiállító felhatalmazza a rendezőt\, hogy a katalógusban az itt feltüntetett adatokat szerepeltesse. Aki e-mail címet adott és nem szeretné\, ha további értesítéseket\, vagy hírlevelet kapna\, az feltétlenül jelezze\, hogy e-mail címe semmilyen nyilvántartásba nem vehető fel.

Tervezett bírói lista:

FCI I. Jenei Attila :belga juhászkutyák \, Svájci fehér juhászkutya
    többi Dr.Pozsonyi Anikó
    FCI II .
    Jenei Attila:
    Argentin dog\, Boxer\, \,Bullmastiff \, Tibeti mastiff\, Német dog\, pincherek\,schnauzerek\, \,Landseer \, Dogo canario \,
    Paraszt László: Orosz fekete terrier\, Dobermann
    Papp János : Rottweiler \, Berni pásztor és a többi fel nem sorolt FCI II.

FCI III.
    Haas Gábor: Yorkshíre terrier \, hosszúlábú terrier (Kivéve bulltípusú) \, Rövidlábú terrierek közül : Cairn terrier \, Skót terrier\,
    Többi rövidlábú terrier: Dr.Pozsonyi Anikó
    Bulltípusú terrier: Jenei Attila

FCI IV. :Görbe Benjamin

FCI V. : Dr.Pozsonyi Anikó

FCI VI. Dr.Pozsonyi Anikó
    FCI VII. Görbe Benjamin
    FCI VIII. Görbe Benjamin

FCI IX.
    Jenei Attila: Francia bulldog
    Petrován Mónika :Boston terrier\, Shih-tzu \, Chihuahua\, Tibet terrier\, Mopsz \,Bolognese\, Havannese \, Kínai meztelen

Többi: Dr.Pozsonyi Anikó

FCI X. Jenei Attila

El nem ismert fajták

&bull\; Harlequin (foltos) és Party (rajzos) Uszkár ( FCI által el nem ismert többszínű) Dr.Pozsonyi Anikó
    &bull\; Biewer \,Biró \,Goldust \, Merle \, Chokolate stb Yorkshíre Terrier (FCI által el nem ismert többszínű) Bodnár Kinga
    &bull\; Amerikai Bulldog (Bully és Standard változat) Jenei Attila
    &bull\; Amerikai Bully ( minden változat ) Jenei Attila
    &bull\; Amerikai PITTBULL terrier Jenei Attila
    &bull\; Kelet Európai Juhászkutya :Jenei Attila
    &bull\; Spaniel Coboly és Csokoládé Coboly Görbe Benjamin
    &bull\; Boerboel Jenei Attila
    &bull\; Bolonka Zwetna Bolonka Franzuska Görbe Benjamin
    &bull\; El nem ismert színű spitzek: Dr.Pozsonyi Anikó
    Fajta nélküli: Bodnár Kinga
    Vezetőbíró: Dr. Pozsonyi Anikó
    Óvási bizottság: Dr.Pozsonyi Anikó \, Bodnár Kinga\, Jenei Attila (Póttag: Papp János )
    A bíróváltozás jogát fenntartjuk.
    Jó szórakozást és sikeres versenyzést kívánunk: OTK vezetőség

Közlemény : A Fővárosi Törvényszék jogerősen is elutasította a MEOESZ kereseti kérelmét\, amivel a Magyar Kutyások Szövetségével kötött együttműködési szerződés akarta volna úgy módosítani\, hogy 30 napon belül felmondhassa.

LOCATION:Budapest Hangár utca 2
END:VEVENT
END:VCALENDAR