BEGIN:VCALENDAR
METHOD:PUBLISH
VERSION:2.0
PRODID:-//Kutyabarathelyek//Programok//EN
BEGIN:VEVENT
SUMMARY:CAC - Hungária Puli Klub
UID:69ed34e663e9f
DTSTART:20150418T000000Z

URL;VALUE=URI:http://www.puli.hu
DESCRIPTION:Hungária Puli Klub -&nbsp\;Tenyészszemle

CAC Kiállítás
    Miskolc

LOCATION:Miskolc 
END:VEVENT
END:VCALENDAR