BEGIN:VCALENDAR
METHOD:PUBLISH
VERSION:2.0
PRODID:-//Kutyabarathelyek//Programok//EN
BEGIN:VEVENT
SUMMARY:CAC Kutyakiállítás Kapuvár 2016
UID:69e9fb9b48126
DTSTART:20160522T000000Z


DESCRIPTION:A kutyakiállítás napjainkban a legnépszerűbb kutyás esemény Magyarországon. A kutyakiállításon a kutyának\, mint tenyészállatnak a küllembírálata zajlik\, tehát a kiállítás a tenyészkiválasztás egyik alapjául szolgáló szakmai értékelés. A kutyakiállítás egyben a felvezetett egyedek közötti verseny is\, szó szerint kiállítás (show)\, az állatok bemutatásának színtere mind a szakmai\, mind a laikus közönség számára. A kutyakiállítás manapság társadalmi\, társasági esemény és hasonlóan a lóversenyekhez\, közös érdeklődésű baráti társaságok programja\, rendszeres találkozóhelye.

&nbsp\;



&nbsp\;

A CAC Kutyakiállítás&nbsp\;megnyitja kapuit a törzskönyvvel NEM rendelkező és a KEVERÉK kutyák előtt is!&nbsp\;

Mindenki aki HOBBY kategóriában indulni szeretne a kiállításon\, küldje el az alábbi infókat a nap folyamán az alábbi e-mail címre: hod.dog@indamail.hu e-mail címre\, valamint szükséges a nevezési díjat a következő bankszámlaszámra elutalni: 59500193-11101947-00000000
    Ebtenyésztők Kapuvári Egyesület
    Nevezési díj: 2000 Ft

Szükséges információk:
    Fajta: Neme:
    Kutya neve:
    Születési idő:
    Szín és leírás:
    Chip szám:
    Tulajdonos neve:
    Lakcíme:
    Telefon:
    E-mail cím:

LOCATION:Kapuvár 
END:VEVENT
END:VCALENDAR