BEGIN:VCALENDAR
METHOD:PUBLISH
VERSION:2.0
PRODID:-//Kutyabarathelyek//Programok//EN
BEGIN:VEVENT
SUMMARY:CAC Kutyashow Dunaújváros
UID:69e79278a6988
DTSTART:20140928T000000Z

URL;VALUE=URI:http://www.onlinenevezes.hu/nyomda/Nev-felh-Dujv-2014-SZ-JO.pdf
DESCRIPTION:

LOCATION:Dunaújváros Strand utca 2.
END:VEVENT
END:VCALENDAR