BEGIN:VCALENDAR
METHOD:PUBLISH
VERSION:2.0
PRODID:-//Kutyabarathelyek//Programok//EN
BEGIN:VEVENT
SUMMARY:CAC - Tokaj
UID:69e8309c896e9
DTSTART:20150913T000000Z

URL;VALUE=URI:http://www.meoemiskolc.hu/hirek/dupla-cac-hetvege/36489/
DESCRIPTION:2015.09.13&nbsp\;Szerencs CAC
    Rendező:&nbsp\;Magyar Ebtenyésztők Tokaj-Hegyaljai Egyesülete

&nbsp\;

Helyszín: Szerencs\, Rákóczi Vár területe

Nevezési határidő: 2015.08.15

Végleges bírói lista:&nbsp\;biroilista2015.09.03.pdf

&nbsp\;

LOCATION:Tokaj 
END:VEVENT
END:VCALENDAR