BEGIN:VCALENDAR
METHOD:PUBLISH
VERSION:2.0
PRODID:-//Kutyabarathelyek//Programok//EN
BEGIN:VEVENT
SUMMARY:CAC Vadászkutya Kiállítás - Kaposvár
UID:69e972d26b3c0
DTSTART:20141018T000000Z

URL;VALUE=URI:http://meoekaposvar.lapunk.hu/

LOCATION:Kaposvár Zaranyi lakótelep
END:VEVENT
END:VCALENDAR