BEGIN:VCALENDAR
METHOD:PUBLISH
VERSION:2.0
PRODID:-//Kutyabarathelyek//Programok//EN
BEGIN:VEVENT
SUMMARY:Central European Sighthound Show
UID:69e918e3b1e41
DTSTART:20150919T000000Z

URL;VALUE=URI:http://www.raba-agar.hu
DESCRIPTION:Central European Sighthound Show

Helyszín: Alsónémedi
    Cím: CAC

&nbsp\;

LOCATION:Alsónémedi 
END:VEVENT
END:VCALENDAR