BEGIN:VCALENDAR
METHOD:PUBLISH
VERSION:2.0
PRODID:-//Kutyabarathelyek//Programok//EN
BEGIN:VEVENT
SUMMARY:Cesar Millan Live - 2019
UID:69e617a6afe17
DTSTART:20191114T000000Z
DTEND:20191114T000000Z
URL;VALUE=URI:http://bit.ly/cesarmillanlive-2019
DESCRIPTION:&nbsp\;



&nbsp\;


    CESAR MILLAN
    IT&rsquo\;S ALL ABOUT FAMILY TOUR 2019
    &ndash\; Apa és fiai együtt a színpadon &ndash\;


    Cesar Millan\, a világhírű kutyapszichológus és motivációs szakember\, szerte a világon milliók gondolkodásmódját és életét változtatta már meg televízióműsorai\, könyvei\, tanfolyamai és élő előadásai segítségével. 2019-ben egy teljesen új\, az&nbsp\;&bdquo\;It&rsquo\;s All About Family&rdquo\;&nbsp\;című élő előadásával tér vissza Magyarországra\, ám ezúttal azonban nem egyedül!&nbsp\;Európai turnéja keretében\, 2019. november 14-én két fiával\, Calvinnel és Andréval érkezik a Papp László Budapest Sportarénába.
    &nbsp\;


    Az új showműsor segítségével rátalálhatunk saját ösztöneinkre\, és lerázhatjuk magunkról a városi szemléletet. Ebben a folyamatban a bizalom\, a tisztelet és a szeretet a legfontosabb\, s az\, hogy kiegyensúlyozott életet alakítsunk ki a kutyánkkal\, hiszen végül is &bdquo\;a család a lényeg&rdquo\;.&nbsp\;Cesar Millan és két fia\, 2019. november 14-én a Papp László Budapest Sportarénában mindezeket megmutatja.

&nbsp\;



Cesar Millan újra Magyarországra érkezik - ezúttal fiaival lép színpadra




    Fontos információ:&nbsp\;Az előadás célja az emberek képzése\, ezért kutyák nem léphetnek be a Sportarénába (kizárólag igazolt segítő kutyákat engedünk be). A műsor angol nyelven zajlik\, melynek megértésében\, magyar szinkron tolmács segít.
    &nbsp\;

&nbsp\;

LOCATION:Budapest Stefánia út 2
END:VEVENT
END:VCALENDAR