BEGIN:VCALENDAR
METHOD:PUBLISH
VERSION:2.0
PRODID:-//Kutyabarathelyek//Programok//EN
BEGIN:VEVENT
SUMMARY:Dog Chow Disc Cup Skyhoundz Hungarian Classic Qualifier
UID:69e7bf79a861d
DTSTART:20160521T000000Z


DESCRIPTION:

&nbsp\;

Judges:&nbsp\;
    Luca Felician (I)
    Sven van Driessche (B)&nbsp\;
    Óvári Tamás (H)
    
    10 EUR/Division/Dog/1st dog
    +dogs 8 EUR
    
    Novice: 5 EUR/Dog
    
    Pairs Freestyle and Time Trial: free
    
    Closing date 13-05-2016
    
    Online registration:&nbsp\;
    https://docs.google.com/forms/d/1PpfoVSygNjBnq50JNs5Ka_sVEj5ckLxSelKfvEiSvgg/viewform

LOCATION:Budapest Vajda Péter utca
END:VEVENT
END:VCALENDAR