BEGIN:VCALENDAR
METHOD:PUBLISH
VERSION:2.0
PRODID:-//Kutyabarathelyek//Programok//EN
BEGIN:VEVENT
SUMMARY:Erzsébetvárosi Kutyás Utcabál
UID:69e7e1da9858a
DTSTART:20190620T000000Z


DESCRIPTION:&nbsp\;



&nbsp\;


    
    A kutya a városi életünk része!
    Gyertek el egy kutyás délutánra a blökivel és a családdal\, hogy közösen példát mutassunk arra\, hogy a város fergetegében is lehet felelősen kutyázni!


    
    Programok:
    Egész nap
    - Kutyás fotózás a Vizslafotózás csapatával
    - Erzsébetváros Felelős Gazdi kutyatartás ügysségi feladatpálya és tanácsadás
    - Kézműves foglalkozások felnötteknek és gyerekeknek
    
    15.00 - 15.30 Kutyatánc bemutató
    15.40 - 16.40 Csapatverseny
    17.00 - 18.00 Kutyaszépségverseny
    18.00 -18.30 Szimatbemutató &ndash\; nevelési - módszertani bemutató
    &nbsp\;


    &nbsp\;

LOCATION:Budapest Madách Imre tér
END:VEVENT
END:VCALENDAR