BEGIN:VCALENDAR
METHOD:PUBLISH
VERSION:2.0
PRODID:-//Kutyabarathelyek//Programok//EN
BEGIN:VEVENT
SUMMARY: Etyeki KUTYAPIKNIK
UID:69e81c9d8a72a
DTSTART:20150916T000000Z


DESCRIPTION:Nyárzáró piknik az etyeki kutyákért.
    Lesz eszem-iszom\, dínom-dánom\, sétáltatás\, kényeztetés\, fotózkodás a kedvencekkel és reméljük\, még napsütés is!&nbsp\;
    
    Adományoddal a menhelyen lévő árvákat támogatod!
    Kutyástól vagy anélkül is jöhettek!:)
    Gyertek!!!

&nbsp\;



LOCATION:Etyek 
END:VEVENT
END:VCALENDAR