BEGIN:VCALENDAR
METHOD:PUBLISH
VERSION:2.0
PRODID:-//Kutyabarathelyek//Programok//EN
BEGIN:VEVENT
SUMMARY:Évadnyitó coursing
UID:69e8075ee5548
DTSTART:20150307T000000Z

URL;VALUE=URI:http://www.raba-agar.hu
DESCRIPTION:Évadnyitó Coursing \, Alsónémedi
    Cím(ek): CACL\, pontszerző

Szabályzatok elérhetők ide kattintva

LOCATION:Alsónémedi 
END:VEVENT
END:VCALENDAR