BEGIN:VCALENDAR
METHOD:PUBLISH
VERSION:2.0
PRODID:-//Kutyabarathelyek//Programok//EN
BEGIN:VEVENT
SUMMARY:Felelős Állattartás Konferencia 2017.
UID:69e71abbf2f79
DTSTART:20171014T000000Z


DESCRIPTION:&nbsp\;



&nbsp\;

Nagy szeretettel várunk minden érdeklődő állatgazdit\, állatorvost\, valamint az állatvédő szervezetek képviselőit 2017. október 14-én szombaton\, 10 - 17 óra között az AsiaCenterben (1152 Budapest\, Szentmihályi út 167-169.) a Rex Alapítvány és a SUST közös szervezésében megrendezendő ismeretterjesztő konferenciánkra. A neves előadók részvételével megrendezésre kerülő tréning ezúttal a kutyák és macskák testi és lelki problémáiról\, valamint azok kezeléséről ad átfogó tájékoztatást.
    
    &nbsp\;

LOCATION:Budapest Szentmihályi út 169
END:VEVENT
END:VCALENDAR