BEGIN:VCALENDAR
METHOD:PUBLISH
VERSION:2.0
PRODID:-//Kutyabarathelyek//Programok//EN
BEGIN:VEVENT
SUMMARY:Főtenyészszemle - Hungária Puli Klub
UID:69ed80b022090
DTSTART:20150307T000000Z

URL;VALUE=URI:http://www.puli.hu
DESCRIPTION:Tenyészszemle - Hungária Puli Klub

Főtenyészszemle
    Monor

LOCATION:Monor 
END:VEVENT
END:VCALENDAR