BEGIN:VCALENDAR
METHOD:PUBLISH
VERSION:2.0
PRODID:-//Kutyabarathelyek//Programok//EN
BEGIN:VEVENT
SUMMARY:Hagyományos Vadászati Módok Napja Gödöllőn
UID:69e8b96078113
DTSTART:20150920T000000Z


DESCRIPTION:Szeptember 20-i Hagyományos Vadászati Módok Napja Gödöllőn.
    Ezen a programon &nbsp\;a MATHE tart ismertetőt és agárfuttatást. Javasoljuk\, aki teheti látogassa meg az érdekesnek ígérkező vadásznapot\, ezzel is népszerűsítve az agarászatot!

&nbsp\;



&nbsp\;



&nbsp\;



LOCATION:Gödöllő 
END:VEVENT
END:VCALENDAR