BEGIN:VCALENDAR
METHOD:PUBLISH
VERSION:2.0
PRODID:-//Kutyabarathelyek//Programok//EN
BEGIN:VEVENT
SUMMARY:Hobbikutya szépségverseny Petrus Krisztinával (EbugattaKriszti)
UID:69e7f1046022d
DTSTART:20180624T000000Z


DESCRIPTION:&nbsp\;




    Kedves Kiállítók\, Érdeklődők!
    
    A Budapest Grand Prix CACIB kiállítás keretén belül\, 2018. június 24-én\, vasárnap hobbikutya szépségversenyt rendezünk.
    
    A rendezvény helyszíne: Budapest\, Hungexpo\, B pavilon
    Időpontja: 2018. június 24. 11:00-13:00
    
    A kutyák hat kategóriában kerülnek zsűrizésre és díjazásra:
    1. Hobbi &ndash\; kistestű
    2. Keverék &ndash\; kistestű
    3. Hobbi &ndash\; középtermetű
    4. Keverék &ndash\; középtermetű
    5. Hobbi &ndash\; nagytestű
    6. Keverék &ndash\; nagytestű
    
    Bírál Petrus Krisztina (&quot\;EbugattaKriszti&quot\;) és a küllembírói testület két tagja.
    
    Nevezni a kiállítási irodán lesz lehetőség\, június 24-én\, vasárnap 10:30-ig.
    
    Nevezési díj: 2500 Ft
    
    
    
    &nbsp\;

LOCATION:Budapest Albertirsai út 10
END:VEVENT
END:VCALENDAR