BEGIN:VCALENDAR
METHOD:PUBLISH
VERSION:2.0
PRODID:-//Kutyabarathelyek//Programok//EN
BEGIN:VEVENT
SUMMARY:Husse Agility Kupa Budaörs 2015
UID:69e81cc569aed
DTSTART:20150913T000000Z
DTEND:20150913T000000Z
URL;VALUE=URI:http://www.meoe-asb.com/
DESCRIPTION:Husse Agility Kupa 2015

Országos Agility Kupaverseny Budaörsön. A rendezvény egyben jótékonysági verseny is a Magyar Agility Válogatott javára. A kutyás sportrendezvényekben bővelkedő családi-kutyás nap színes programokkal várja látogatóit:


    agility verseny
    kutyaszépségverseny (fajtatiszta és keverék kategóriákban)
    kutyás bemutatók
    dog dancing show
    rendőrkutyás bemutató
    jótékonysági tombolahúzás
    egyéb kiváló kutyás programok


Dátum: 2015. szeptember 13. vasárnap 9.00-16.00

Helyszín: Budaörs\, Kamarerdei Új Park\, Kolozsvári út - Hosszúréti Patak

Online nevezés ITT.

&nbsp\;



&nbsp\;



&nbsp\;

LOCATION:Budaörs Kamaraerdő
END:VEVENT
END:VCALENDAR