BEGIN:VCALENDAR
METHOD:PUBLISH
VERSION:2.0
PRODID:-//Kutyabarathelyek//Programok//EN
BEGIN:VEVENT
SUMMARY: I.D.O Nyílt tréning
UID:69e887443bbcf
DTSTART:20150919T000000Z


DESCRIPTION:Először kerül megrendezésre a három kutyás sportot magába foglaló nyílt tréning. Az első alkalom témája a sportágakhoz szükséges alapok és a probléma kezelés. Mind három sportágban szeretnénk érdemben segíteni azoknak\, akik vizsgára\, versenyre készülnek vagy egyszerűen csak nem haladnak egy gyakorlattal vagy trükkel. A későbbiekben gyakorlatokra bontva\, egy-egy témakörrel foglalkozunk Workshop keretében.

&nbsp\;



LOCATION:Alsónémedi 
END:VEVENT
END:VCALENDAR