BEGIN:VCALENDAR
METHOD:PUBLISH
VERSION:2.0
PRODID:-//Kutyabarathelyek//Programok//EN
BEGIN:VEVENT
SUMMARY:I. Kutyás Családi Piknik
UID:69e71b1f0ee3c
DTSTART:20170917T000000Z


DESCRIPTION:&nbsp\;

I.KUTYÁS CSALÁDI PIKNIK&nbsp\;
    
    A Fekete István Állatvédő Egyesület és Kunhegyesi Tibor (Kutyás Univerzum kutyaiskola) rendezésében
    2017. szeptember 17. vasárnap 10-19 óráig
    Helyszín: Kutyás Univerzum kutyaiskola területe Torony &ndash\;Dozmat Erdőalja

&nbsp\;



I. Kutyás Családi Piknik - Örökbefogadásra váró kutyusokkal is találkozhattok - A képen Lejla\, a vizslalány




    Programok:
    10:00 Ünnepélyes megnyitó &ndash\; a rendezvényt megnyitja Csollányné Horváth Krisztina a Fekete István Állatvédő Egyesület elnöke&nbsp\;
    
    10:30 Terelőkutyás bemutató &ndash\; Süli Attila Kapuvár
    
    11:00 Frédi Bácsi Bábszínháza
    
    11:30 Horváth Meggie koncert
    
    12:30 Univerzum kupa &ndash\; kutyás ügyességi akadályverseny &ndash\; nevezés a helyszínen
    
    13:30 Tűzoltó bemutató
    
    14:00 Univerzum szépe &ndash\; kutyás szépségverseny mini\, standard\, maxi kategóriában &ndash\; nevezés a helyszínen
    
    15:30 Szeifer Diána Dog Dancing bemutatója
    
    16:00 Univerzum szépe kupa eredményhirdetése
    
    16:15 &bdquo\;Fekete Istvános&rdquo\; kutyám van &ndash\; a Fekete István Állatvédő Egyesülettől örökbefogadott kutyák találkozója &ndash\; történetek\, fotózás
    
    17:00 Tombola
    
    18:00 Bujtás Ervin eseményzáró piknik koncertje

&nbsp\;



Sok barátot ismerhetnek meg a kutyák az I. Kutyás Családi Pikniken




    Kísérőprogramok:
    - Állatorvosi kérdezz-felelek &ndash\; Dr. Nagy Ádám Noé Állatambulancia
    - Pónilovaglás\, lovaskocsizás 14-16 óráig
    - Horváth Niki és Lili &ndash\; beszélgetés a VakVagány blog írójával
    - Azonnali kérdések óraja &ndash\; beszélgetés Kunhegyesi Tibor Babérkoszorús Kutyakiképző Mesterrel
    - Róth Eszter kutyakozmetikus tanácsadás
    - Bogáti András &ndash\; természetvédelem\, természetjárás\,madarászás
    - Horváth Péter vadász &ndash\; &bdquo\;Kutyával az erdőben&rdquo\; beszélgetés\, tanácsadás
    - Csákány Zsolt &ndash\; elsősegély bemutató
    - Reidinger Anita &ndash\; kutyafizioterapeuta bemutató\, beszélgetés\, tanácsadás
    - Happy Zoo - kiskedvenc biléta feliratozás helyben kedvezményes áron
    - lufihajtogatás
    - kézműves programok
    - csillámtetoválás\, arcfestés

&nbsp\;

Támogatók: Happy Zoo\, Meggie\, Univerzum Kutzyaiskola\, Friss Fm\, Kopula 96 Kft. (egyeztetés alatt)
    Egyesületünk egész nap óránként autót indít Szombathelyről a Noé Állatambulanciától azok számára\, akiknek nincs lehetőségük kijutni.

&nbsp\;

Kérünk minden gazdit\, hogy a helyszínen az alapvető kutyás illemszabályokat tartsák be (póráz használata\, kutyagumi összeszedése stb.)\, ellenőrizzék a kötelező oltás érvényességét\, oltási könyvet mindenki hozza magával.
    
    A program változtatás jogát fenntartjuk!

&nbsp\;

&nbsp\;

LOCATION:Torony 
END:VEVENT
END:VCALENDAR