BEGIN:VCALENDAR
METHOD:PUBLISH
VERSION:2.0
PRODID:-//Kutyabarathelyek//Programok//EN
BEGIN:VEVENT
SUMMARY: I. Leonbergi Klubnap
UID:69e893b716a62
DTSTART:20150912T000000Z


DESCRIPTION:&nbsp\;

I.Leonbergi Klubnap
    A Falkastrand területén
    
    2015. szeptember 12.
    Helyszín: Balatonfűzfő\, Föveny Strand
    
    Amire számíthattok: dog-diving\, vízből mentés saját kutyával\, vetélkedő kutyával és kutya nélkül\, előadás\, szellemi totó\, agility\, ringdresszúra gyakorlása\, FOTÓZÁS\, és természetesen strandolás és jó társaság!&nbsp\;
    
    Minden érdeklődőt szeretettel várunk!
    Belépés a LEOE klubtagoknak egy vendéggel\, egy kutyával ingyenes!
    További belépő árak:
    -1 GAZDI + 1 KUTYA: 1.100\,-
    - látogató: 600\,-
    - gyerek (3-14 év között): 500\,-
    - kutya: 500\,-

&nbsp\;



LOCATION:Balatonfűzfő 
END:VEVENT
END:VCALENDAR