BEGIN:VCALENDAR
METHOD:PUBLISH
VERSION:2.0
PRODID:-//Kutyabarathelyek//Programok//EN
BEGIN:VEVENT
SUMMARY:I. Rhodesian Ridgeback Club Hungary Club Show 
UID:69e71758d55b0
DTSTART:20171014T000000Z


DESCRIPTION:Kiállítás Főszponzora: Intermix Kft a JOSERA tápok hivatalos magyarországi forgalmazója
    Nevezési határidő: 2017.09.17
    
    Rendező szervezet: Rhodesian Ridgeback Club Hungary Egyesület
    
    Bíró/Judge: Franz Zimmermann (A)
    
    Kiállítás helye: Arion Dog ShowRoom
    2141 Nagytarcsa\, Alsó Ipari körút 8
    GPS: 47.51423\, 19.28502
    
    Nevezési cím:&nbsp\;
    www.onlinenevezes.hu
    kiallitas @ rrclubhungary.hu
    
    Kapcsolattartó: Szórádi Anita (elnökségi tag)
    Telefon: +36/70/6538132
    
    Nevezési lap letöltés:http://www.rrclubhungary.hu/?q=node%2F22
    
    Bébi\,Welpen\, Minor Puppy 3-6 hó/m.
    Kölyök\, Jungsten Puppy 6-9 hó/m.
    Fiatal. Jugend\, Youth 9-18 hó/m.
    Növendék\, Zwischen\, Intermediat 15-24 hó/m.
    Nyílt\, Offene\, Open\, &gt\;15 hó/m.
    Győztes\, Champions\, Champion
    Veterán\, Veteranen\, Veteran\, &gt\;8év/years
    
    Egyéb bírálatok/Weitere Auswertungen/Other judging:&nbsp\;
    1.500.- Ft / 5 EUR (Kategória/Class/Auswertung)
    
    Legszebb fej/Bester Kopft/Best Head
    Legszebb ridge/Bester Ridge/Best ridge
    Legszebb mozgás/Beste Bewegung/Best movement

&nbsp\;




    Nevezési díjak/Meldegebühren/Entry fees:
    Szövetségi kártyával rendelkező/mit mitgliedshaft/with membership
    1.kutya/ 1 Hund/Dog 6.000.- Ft
    2.kutya/ 2. Hunde//Dogs 5.000.- Ft
    Bébi\,kölyök\,veterán/Minor puppy\, Jüngsten\, Veteranklasse/Minor puppy\, Puppy\, Veteran Class 3.000.- Ft
    
    Szövetségi kártyával nem rendelkező
    1.kutya/ 1 Hund/Dog 12.000.- Ft
    2.kutya/ 2. Hunde//Dogs 10.000.- Ft
    Bébi\,kölyök\,veterán/Minor puppy\, Jüngsten\, Veteranklasse/Minor puppy\, Puppy\, Veteran Clas 6.000.-Ft
    
    Ohne mitgliedshaft/without memebership
    1.kutya/ 1 Hund/Dog 45 EUR
    2.kutya/ 2. Hunde//Dogs 40 EUR
    Bébi\,kölyök\,veterán/Minor puppy\, Jüngsten\, Veteranklasse/Minor puppy\, Puppy\, Veteran Clas 25 EUR
    
    Helyszínen nevezhető/Entry on site:
    Hobby osztály/Hobby class:
    3 000 Ft/10 EUR Kutya/Dog/Hund
    
    Bankszámlaszám - OTP BANK:
    IBAN: HU62 1174 8069 2134 9513
    SWIFT/BIC: OTPVHUHB
    HUF 1174869 21349513
    
    Számlatulajdonos (kedvezményezett):
    Rhodesian Ridgeback Club Hungary Egyesület
    
    NEVEZÉSI DÍJAT KIZÁRÓLAG A FENTI BANKSZÁMLÁRA FOGADUNK EL!
    
    Amennyiben a nevezési díját nemzetközi banki utaláson keresztül teljesíti\, az utalás banki költségeit önnek kell vállalnia.
    If you transfer entryfee form your bank account from abroad you have to pay the bank tax.
    
    Nevezett kutya osztályok közötti átsorolására\, cseréjére kizárólag az utolsó nevezési határidőig van mód! Díja: 2000 Ft/átsorolás\, vagy csere.
    
    Első kutyaként nem lehet figyelembe venni a minor puppy\, puppy\, veterán kutyát!
    &nbsp\;

&nbsp\;

&nbsp\;

LOCATION:Nagytarcsa Alsó Ipari körút 8
END:VEVENT
END:VCALENDAR