BEGIN:VCALENDAR
METHOD:PUBLISH
VERSION:2.0
PRODID:-//Kutyabarathelyek//Programok//EN
BEGIN:VEVENT
SUMMARY:I. Run Dog Kutyával futunk terepfutó verseny
UID:69e59b8571832
DTSTART:20181027T000000Z


DESCRIPTION:&nbsp\;



&nbsp\;

VERSENYKIÍRÁS
    
    
    &quot\;Ez a verseny szóljon kizárólag Rólatok! Rólad és a kutyádról!&quot\;
    
    A VERSENY IDŐPONTJA: 2018.10.27. szombat 9:30
    
    A VERSENY HELYE: Tököli Parkerdő
    Versenyközpont: Erdészházzal szemben lévő terület.
    
    VÁLASZTHATÓ TÁVOK


    3\,4 km Pihe futam
    6\,5 km Vanda futam


A hosszú távosok egy 8-as alakú pályát futnak\, aminek a közepén (kb. féltávnál) van a frissítés a versenyközpontban.


    RÉSZVÉTELI FELTÉTELEK:
    A versenyen mindenki saját felelősségére indul. A versenyzőnek és a kutyájának kellő felkészültséggel kell rendelkeznie\, hogy a távot teljesíteni tudja.
    A futópályáról:
    Jól futható\, széles földutak\, jelzett turistautak. A pálya 8-as alakú\, a rövidtávosok az egyik\, a hosszútávosok mindkét körét teljesítik. Link pályarajz&nbsp\;
    Az útvonalat szalagozással jelöljük és megerősítésként festéket is használunk az elágazásoknál.


    Korosztályok:


    16 éves kor alatt
    16 - 40 éves korig
    40 éves kor felett



    Eredményhirdetés\, díjazás:
    12:00-kor eredményhirdetés
    Korosztályos díjazás lesz férfi\, női kategóriában\, a dobogósok értékes tárgynyereményeket kapnak a szponzorok felajánlásával. Minden teljesítő befutóérmet kap!


    A verseny után minden résztvevő sorsoláson vesz részt\, ahol százezer forint értékben sorsolunk a szponzorok által felajánlott termékekből.
    
    További információ az eseményről és a nevezésről az esemény Facebook oldalán!
    
    &nbsp\;

LOCATION:Tököl 
END:VEVENT
END:VCALENDAR