BEGIN:VCALENDAR
METHOD:PUBLISH
VERSION:2.0
PRODID:-//Kutyabarathelyek//Programok//EN
BEGIN:VEVENT
SUMMARY: I. SUPdog Balaton
UID:69e81c9ce71c6
DTSTART:20160521T000000Z


DESCRIPTION:&nbsp\;

SUPer gazdik &amp\; SUPer kutyák a vízen!
    
    INGYENES PRÓBAEVEZÉSEK előzetes regisztrációval!
    
    Az idei tavaszi\, nyári szezon egyik legnagyobb újdonsága kutyás berkekben a fonyódi és a balatonboglári kutyás strandok alapítása.
    Ezzel végre elkezdődik a felzárkózás az európai strandokhoz\, ahol számos helyen\, kultúráltan szórakozhatnak együtt gazdik és kutyáik.
    Ennek örömére a siófoki SUPport Csapata egy különleges rendezvényt szervez a SUPdog sport bemutatására és népszerűsítésére\, a fonyódi kutyastrandon.
    
    A SUP (Stand Up Paddle\, azaz állószörf) sport önmagában is egyre népszerűbb a világon és a négylábúakkal közös verziója is számos helyen elterjedőben van.
    
    Ha előbújik a nap\, nincs is annál nagyobb öröm\, mint együtt a&nbsp\;szabadban mozogni a Kedvencünkkel. Főleg izgalmas\, ha ez egy vadonatúj aktivitás mindkettőnknek\, amit közösen sajátítunk el! :)
    
    Az &quot\;I. SUPdog Balaton&quot\; napon kb. 10-15 normál és nagy méretű SUP deszka\, hozzá való evezőkkel áll majd rendelkezésre kipróbálni és nagy valószínűséggel megszeretni ezt a kalandos új sportot.
    Igény esetén mentőmellényeket is tudunk biztosítani a kutyusok és gazdik részére is! :)
    
    Mivel a deszkák száma korlátozott\, az ELŐZETES JELENTKEZÉS és a részvételi díj befizetése időben ajánlott!

&nbsp\;




    
    A rendezvény menete:


    9-10 h: Regisztráció (előzetes jelentkezések alapján)
    10:00-10:30: Bemutató (hogyan és miként érdemes kutyusunkkal együtt vízre szállni és állva evezni a stabil és erre a célra gyártott deszkákon?)
    10:30-12:30: Próba evezések\, INGYENES (10-15 perces blokkokban)
    12:30-14:00: Kutyás piknik\, strandolás
    14:00-16:00: Egyéni evezések (30 perces blokkokban\, 4.000 Ft/deszka/30 perc)
    16:30-18:30: Kutya+gazdi SUPdog verseny (csoportos evezések több fordulóban\, kb. 200 m-es előre kijelölt pályán\, kiesésre majd a döntő helyezésre)


Az I. SUPdog Balaton kupáért a nevezési díj: 6.000 Ft/SUP deszka/fő (saját deszkával: 4.000 Ft/fő)
    
    Minden versenyben résztvevő ajándékba kap:
    - &quot\;I. SUPdog Balaton&quot\; egyedi pólót
    - kutyás ajándékcsomagot
    - igazoló oklevelet
    - professzionális fotót a SUPdog evezéséről
    
    A dobogós helyezettek díjai a fentieken felül:
    3. helyezett:&nbsp\;
    - &quot\;SUPport&quot\; voucher\, 10.000 Ft értékben
    2. helyezett:
    - &quot\;SUPport&quot\; voucher\, 20.000 Ft értékben
    1. helyezett:
    - &quot\;SUPport&quot\; voucher\, 30.000 Ft értékben
    
    A &quot\;SUPport&quot\; voucher a SUPport által szervezett valamennyi hazai és külföldi programra\, tanfolyamra beváltható\, valamint a 2016. májusában induló SUPshop.hu webshopban forgalmazott kiváló minőségű RRD (Roberto Ricci Design) márkájú SUP deszkákra és evezőkre is.
    
    http://www.robertoriccidesigns.com/
    
    FONTOS TUDNIVALÓK:


    Előzetes SUP deszkás vagy evezős gyakorlat nem szükséges
    Úszni tudás ajánlott\, melyről a regisztráció során felelősségvállalási nyilatkozatban kell majd nyilatkozni
    Minden méretű egészséges kutyát várunk\, aki közösségben kulturáltan viselkedik. Érvényes kötelező oltásokra vonatkozó igazolvány felmutatása a részvétel feltétele!
    A deszkához\, vízhez szoktatás egyedenként eltérő lehet\, kérjük ezt vegyétek türelmesen figyelembe!
    A SUPdog ingyenes próba evezéseket max. mellig érő vízben végezzük\, ahol biztonságban lehet vízbe csobbanni a gazdiknak\, a kutyát a deszkára visszatenni stb.
    Az egyéni\, 30 perces SUPdog evezések saját felelősségre történnek az aktuális balatoni vízirendészeti előírásoknak megfelelően (viharjelzés nélkül max. 1 km-ig lehet eltávolodni SUP deszkával a fonyódi parttól\, elsőfokű esetén\, max. 500 m-ig\, másodfokú jelzés esetén pedig sürgősen kérjük visszatérni a partra!)
    A környezet tisztán tartásáról kérjük mindenki kiemelten gondoskodjon!



    
    Lelkes segítőket is szívesen látunk kis Csapatunkban\, akik 9-19 óra között a rendezvény napján a lebonyolítást megkönnyítik.
    Jutalmuk fejenként egy romantikus 2 személyes\, naplementés SUP evezés a siófoki partoknál\, előzetes egyeztetés után 2016. júniusában\, 7.800 Ft értékben\, valamint a rendezvényre készült egyedi SUPdog-os póló.
    
    A jelentkezéseket kizárólag a következő adatokkal:


    Gazdi neve\, kora\, póló mérete\, telefonszáma
    Kutya neve\, neme\, kora\, fajtája\, kb. kg
    Melyik programban kívántok részt venni (preferált időpont)?&nbsp\;



    1.) Ingyenes SUP evezés (10:30-12:30\; 10-15 perc/gazdi+kutyus)
    2.) Egyéni evezés (14:00-16:00\; 30 perc/gazdi+kutyus)
    3.) SUPdog verseny (16:30-18:30)
    
    az alábbi e-mail címre várjuk:
    
    info@supshop.hu
    
    További információ a rendezvénnyel kapcsolatban:
    Uracs Ami (30/476-8885)
    SUPport SE
    
    A sikeres regisztrációról és a részvételi díj befizetésének módjáról válasz e-mailt küldünk mielőbb!
    
    ESŐNAP: 2016. május 28.\, szombat (a rendezvény megtartásáról az időjárás ismeretében min. 2 nappal a meghirdetett dátum előtt döntünk!)
    
    Várunk szeretettel Mindenkit! :)

LOCATION:Balatonboglár Bólya köz
END:VEVENT
END:VCALENDAR