BEGIN:VCALENDAR
METHOD:PUBLISH
VERSION:2.0
PRODID:-//Kutyabarathelyek//Programok//EN
BEGIN:VEVENT
SUMMARY:II. Carnifest kutyás találkozó a III. kerületben
UID:69ed4fff848c1
DTSTART:20240928T000000Z
DTEND:20240928T000000Z

DESCRIPTION:Szabadtéri kutya-gazdi programok szakértőkkel\, csordultig gondoskodással és szeretettel&nbsp\;

&nbsp\;

A kutya egy társ\, barát\, sőt családtag! De mindent tudsz a kedvencedről? Itt az ideje jobban megismerni kutyád testi és lelki reakcióit. Látogass el a második Carnifestre a budapesti DOG3-hoz\, és hallgasd meg egy piknik hangulatú összejövetel keretein belül szakértőink előadásait.&nbsp\;

&nbsp\;

Az esemény ingyenes\, de a részvétel regisztrációhoz kötött:&nbsp\;https://forms.gle/DP1DuYHTveqvQ6sSA

&nbsp\;

Mire számíts\, ha kilátogatsz a Carnifestre?&nbsp\;
&nbsp\;Carnilove finomságokra (száraztáp és jutifalat kóstolók)
&nbsp\;Egy nagy adag tudásra a táplálkozással és a tápanyagokkal kapcsolatban
&nbsp\;Egy kis mozgásra\, szocializációra és a kis kedvenced még jobb megismerésére
&nbsp\;Agility pályákra (Dog3 szervezésében)
&nbsp\;Beszélgetési lehetőségre a különböző témákban előadó szakértőkkel
&nbsp\;És persze vidám kikapcsolódásra és beszélgetésekre azokról\, akiket a legjobban szeretünk - a kutyákról
&nbsp\;Babzsákokkal és ülőhelyekkel is készülünk\, de nyugodtan hozzatok magatokkal pokrócot az igazi piknik hangulat kedvéért!


Mancsokat a fedélzetre\, szeptember 28-án indulunk!&nbsp\;

LOCATION:Budapest Gázgyár utca
END:VEVENT
END:VCALENDAR