BEGIN:VCALENDAR
METHOD:PUBLISH
VERSION:2.0
PRODID:-//Kutyabarathelyek//Programok//EN
BEGIN:VEVENT
SUMMARY:II. Együtt Értük Jótékonysági Sportnap a Árva Állatokért az MMA Javára
UID:69e8404a8895e
DTSTART:20240420T000000Z
DTEND:20240420T000000Z
URL;VALUE=URI:https://sportolj6labon.hu/
DESCRIPTION:Jótékonysági kutyás futás és séta a Meggyeserdei Menedék javára.

A részvételi hozzájárulásod 100%-ával az Alapítványt támogatod!


    További részletek a&nbsp\;https://sportolj6labon.hu/#esemenyek&nbsp\;oldalon\, valamint az esemény Facebook oldalán.

&nbsp\;

&nbsp\;



&nbsp\;

&nbsp\;

LOCATION:Somlóvásárhely  
END:VEVENT
END:VCALENDAR