BEGIN:VCALENDAR
METHOD:PUBLISH
VERSION:2.0
PRODID:-//Kutyabarathelyek//Programok//EN
BEGIN:VEVENT
SUMMARY: II. Kutyás Bréda Napok
UID:69e7a8725d03b
DTSTART:20160521T000000Z


DESCRIPTION:

&nbsp\;

&nbsp\;

Állati jó programok a Bréda-Kastély Kutyás Majálisán!

Részletek a plakátokon:

&nbsp\;

&nbsp\;



&nbsp\;



&nbsp\;



LOCATION:Lőkösháza 
END:VEVENT
END:VCALENDAR