BEGIN:VCALENDAR
METHOD:PUBLISH
VERSION:2.0
PRODID:-//Kutyabarathelyek//Programok//EN
BEGIN:VEVENT
SUMMARY: II. Tavaszköszöntő Fesztivál és Kistestű Kutyusok Találkozója
UID:69ead057e7f9d
DTSTART:20160423T000000Z
DTEND:20160424T000000Z

DESCRIPTION:Közeledik a II.Tavaszköszöntő Fesztivál hétvégéje!!!
    
    Igyekeztünk egy kellemes családi hétvégét összehozni nektek!
    
    A kiváló ételek\, italok\, a vásári forgatag\, a vidámpark\, az ingyenes kézműves foglalkozások mellett számos olyan program lehetőség lesz\, ami felhőtlen kikapcsolódást nyújt kicsiknek es nagyoknak. Szó szerint!!! Hogy miert?&nbsp\;
    
    Az Rtl klub ujjonnan induló tehetségkutató műsora\, minket választott és nálunk tartja válogatását a Kicsi Óriások című produkciójához.&nbsp\;
    Tehát nálunk akár még sztár is lehet a tehetséges gyerekekből!!!&nbsp\;
    
    De ez még nem minden!
    
    A II. Tavaszköszöntő Fesztivál idén első alkalommal kiskutya örökbefogadó és adománygyújtő napot is tart! Sok-sok fajtatiszta közedvelt kiskutyának lesz lehetőség a segitségnyújtásra!!!! Yorki\, csivava\, tacskó\, spániel\, mopsz\, szánhúzó kutyák. És ha nem tudod eldönteni\, hogy kinek segits a tetovált állatmentőkkel\, egyszerre többeket is támogathatsz!

&nbsp\;



LOCATION:Budapest Vajdahunyad vár
END:VEVENT
END:VCALENDAR