BEGIN:VCALENDAR
METHOD:PUBLISH
VERSION:2.0
PRODID:-//Kutyabarathelyek//Programok//EN
BEGIN:VEVENT
SUMMARY: III. Ebugatta Kutya Nap Gödöllőn - PettBull SzuperKutyák napja és rekord kísérlete!
UID:69e86c808c91b
DTSTART:20150913T000000Z

URL;VALUE=URI:http://ebugatta.hu/
DESCRIPTION:
    III. Ebugatta Kutya Nap Gödöllőn - PettBull SzuperKutyák napja és rekord kísérlete!
    2015. szeptember 13. vasárnap&nbsp\;
    Helyszín: a Gödöllői Kastéllyal szembeni park területén
    Fővédnök: dr. Gémesi György &ndash\; Gödöllő város polgármestere&nbsp\;
    
    Ingyenes kutyabarát családi program!
    
    Tervezett program:


    9. 30 &ndash\; 10. 30 Regisztráció a kutya szépség versenyre&nbsp\;
    9.30. &ndash\; 12. 00 Regisztráció a rekord kísérletre&nbsp\;
        (Hogy ne kelljen kétszer sorba állni\, úgy döntöttünk\, hogy a regisztráció közös lesz\, egy helyen lesz a két programra a jelentkezési lehetőség!)&nbsp\;
    9.30 &ndash\; Gödöllői Kutyasport Központ kutyás bemutatója&nbsp\;
    11. 00 &ndash\; 13. 00 Kutya szépség verseny&nbsp\;
        
            Korosztályok szerint lehet nevezni minden négylábút\, minden nevezett kutya Gödöllő városától Oklevelet kap\, valamint az osztályok győztesei PettBull funkcionális kutyaeledel konzerveket nyernek
            I.: 3-12 hónapos korig\,&nbsp\;
            II. 1 évestől 3 évesig\,&nbsp\;
            III. 3 évestől 5 évesig\,&nbsp\;
            IV. 5 évestől 7 évesig\,&nbsp\;
            V. 7 éves kor fölött&nbsp\;
        
    
    13. 30 PettBull SzuperKutyák funkcionális kutyaeledel evő magyar és Guinness rekord kísérlete&nbsp\;
    Kb. 14. 30-tól beszélgetés\, fotózás\, szabad program



    A sátrakban:


    Fajtamentő csoportok bemutatkozása\, jótékonysági vásár és adományozási lehetőség:&nbsp\;
        
            Magyar Westie Fajtamentő Egyesület\,&nbsp\;
            Mudi Fajtamentő Egyesület\,&nbsp\;
            NOÉ Állatotthon Boxer Fajtamentő Csoport\,&nbsp\;
            NOÉ Állatotthon Bulldog Fajtamentő Csoport\,&nbsp\;
            NOÉ Állatotthon Cane corso Fajtamentő Csoport\,
            NOÉ Állatotthon Csau-csau Fajtamentő Csoport\,&nbsp\;
            Cocker Rocker Spániel Fajtamentő Egyesület\,&nbsp\;
            Mopsz Fajtamentés\,&nbsp\;
            Kuvasz és Mi Alapítvány
            &quot\;Állat és Ember&quot\; Á.V.E. és a Yorkie Fajtamentés
        
    
    PettBull szaktanácsadás &ndash\; a Szuperkutyáknak és gazdáinak
    Állatorvosi szaktanácsadás &ndash\; bolhák és kullancsok - MSD képviselőjével





    A rendezvényről a Centrum TV &ndash\; az Ebugatta csatornája tudósít!
    
    Házirend:
    A kutyáknak mikrochippel és érvényes oltási könyvvel kell rendelkezniük!
    Tüzelő és agresszív kutyákat a rendezvényre tilos hozni! Kutyakaki eltüntetéséről minden gazda saját kutyája után köteles gondoskodni!
    A kutyák által okozott bármilyen kárért a gazda a felelős!&nbsp\;
    A rendezvényről film és fotók készülnek.
    A házirend a rendezvényre való belépéssel lép életbe.&nbsp\;
    
    A program változtatás jogát fenntartjuk!
    A rendezvény területén szòròlapozás és árusítás az Ebugatta részen nem engedélyezett!

LOCATION:Gödöllő 
END:VEVENT
END:VCALENDAR