BEGIN:VCALENDAR
METHOD:PUBLISH
VERSION:2.0
PRODID:-//Kutyabarathelyek//Programok//EN
BEGIN:VEVENT
SUMMARY: IV.Orszàgos Pit Bull Talàlkozò
UID:69e918b0ac4d0
DTSTART:20150912T000000Z
DTEND:20150913T000000Z

DESCRIPTION:I. Belépő\,nevezési díjak
    
    Belépő:


    Egynapos belépő 1500 Ft/fő
    Kétnapos belépő 2500 Ft/fő
    8 éven aluliaknak a belépés ingyenes


Nevezési díjak:


    Sínes súlyhúzás 1500 Ft
    Gyorsasági súlyhúzás 1000 Ft
    Falmászás 1500 Ft
    Kötèlhúzás 1500Ft
    Szépségverseny 1500 Ft
    Tombola 500 Ft
    Örző védő 1500Ft


II.Programtervezet
    
    Szombat


    9:00 Kapunyitás
    9:30-10:30 Mérlegelés\,nevezés


Bemutató


    11:00 Szépségverseny
    11:30 Gyorsasági súlyhúzás
    12:00 Sínes súlyhúzás
    17:00 Profi súlyhúzók bemutatója és szeminárium
    19:00 Tombola\,eredményhirdetés



    Vasárnap


    9:00 Falmászás
    10:00 Örző-védő
    12:00 Kötélhúzás
    X Eredményhirdetés


III.Támogatóink


    Kazzy
    Toldi Attila
    Mobilvarázs
    Yellow Lima Kennelgyártó Kft




&nbsp\;

LOCATION:Délegyháza Nomád part 4
END:VEVENT
END:VCALENDAR