BEGIN:VCALENDAR
METHOD:PUBLISH
VERSION:2.0
PRODID:-//Kutyabarathelyek//Programok//EN
BEGIN:VEVENT
SUMMARY:IV.SugárZoo Piknik és Hivatalos Tacskó Találkozó
UID:69e71b77324a0
DTSTART:20170917T000000Z


DESCRIPTION:&nbsp\;

&nbsp\;

&bdquo\;Egy emberben néha elhal a remény\, de egy állatban soha. Amíg él\, él benne a remény\, és él a hűség is.&rdquo\;

Eric Knight\, a Lessie hazatér írójának tollából&nbsp\;- Hivatalos Tacskó Találkozó

&nbsp\;

&bdquo\;Állatunk az Életünk.&rdquo\;

SugárZoo

&nbsp\;



&nbsp\;

2017. szeptember 17-edikén a Zuglói Önkormányzat által biztosított rendezvényi keretek között\, a SugárZoo Piknik és az Országos Tacskó Találkozó partnerségében egy nagyszabású esemény keretin belül várjuk azon szórakozni vágyó vendégeinket\, négylábú barátaik kíséretében\, akiknek fontos az állatvédelem és a felelős állattartás. Színes programokkal\, érdekességekkel\, szakmai stábbal szeretnénk felhívni a figyelmet ezen témák fontosságára.
    
    
    &nbsp\;


    &nbsp\;

LOCATION:Budapest Pillangó park
END:VEVENT
END:VCALENDAR